BEGIN:VCALENDAR
VERSION:2.0
PRODID:-//イルチブレインヨガ公式サイト - ECPv6.15.16//NONSGML v1.0//EN
CALSCALE:GREGORIAN
METHOD:PUBLISH
X-WR-CALNAME:イルチブレインヨガ公式サイト
X-ORIGINAL-URL:https://ilchibrainyoga.com
X-WR-CALDESC:イルチブレインヨガ公式サイト のイベント
REFRESH-INTERVAL;VALUE=DURATION:PT1H
X-Robots-Tag:noindex
X-PUBLISHED-TTL:PT1H
BEGIN:VTIMEZONE
TZID:Asia/Tokyo
BEGIN:STANDARD
TZOFFSETFROM:+0900
TZOFFSETTO:+0900
TZNAME:JST
DTSTART:20250101T000000
END:STANDARD
END:VTIMEZONE
BEGIN:VEVENT
DTSTART;TZID=Asia/Tokyo:20260303T063000
DTEND;TZID=Asia/Tokyo:20260331T071000
DTSTAMP:20260425T123051
CREATED:20260301T050250Z
LAST-MODIFIED:20260303T021159Z
UID:85740-1772519400-1774941000@ilchibrainyoga.com
SUMMARY:【名古屋】火曜日 6:30～　【瞑想で整える朝ヨガ】
DESCRIPTION:忙しい毎日の中で、\n「朝からスッキリしない」\n「夜までどんより感が残ってしまう」\n「気持ちを軽やかに切り替えたい」\nそんな方に向けた、早朝オンラインヨガクラスです。 \n朝の静かな時間に、呼吸を深め、やさしく体を動かし、瞑想で心を整えていきます。\nその日一日の心地よいリズムや、前向きなパフォーマンスをサポートします。 \n【こんな方におすすめ】 \n心地よい朝の習慣を作りたい方\n自分自身をゆったりと整える時間が欲しい方\n毎日の忙しさをリセットしたい方\n朝から気持ちよく動きたい方\n運動が苦手な方、体を動かすきっかけが欲しい方 \n激しい運動はありません。\n体が硬い方やヨガが初めての方も安心してご参加いただけます。\n年齢・性別問わずご参加可能です。 \n【開催日時】\n火曜日 6:30～7:10（40分）\n【開催方法】\nオンライン（Zoom）\n【内容】\n・呼吸法\n・やさしいヨガ\n・瞑想\n朝を整える習慣を、一緒に始めてみませんか？…\n参加費：1\,000円\nトレーナー：梶原千波\n♦︎お問い合わせ、お申し込みは、こちらからお気軽にどうぞ！\n📞【お問い合わせ】052-453-7120 \nお申し込み、お問い合わせはこのラインからご連絡ください🙆\n\nhttps://lin.ee/IhC4NTNU \n\n\n  \n\n\n\n\n	\n	\n	 \n	\n		\n			\n				ご予約内容\n						（必須）\n						\n				 \n			\n			\n				体験レッスンイベント体験レッスン + オーラ撮影オーラ撮影問合せ\n　※ 入会予約はこちらからお申し込みください\n				 \n			\n		\n		\n			\n				お名前\n						（必須）\n						\n				 \n			\n			\n				\n				 \n			\n		\n		\n			\n				メールアドレス\n						（必須）\n						\n				 \n			\n			\n				\n※ 携帯電話のメールアドレスをご入力の際は、ドメイン指定の設定をされている場合”＠ilchibrainyoga.com”からのメールを受け取ることができるように設定してください。\n				 \n			\n		\n		\n			\n				お電話番号（携帯可）\n						（必須）\n						\n				 \n			\n			\n				イルチブレインヨガ各店舗からの連絡が可能な番号をご入力ください。\n\n				 \n			\n		\n		\n			\n				ご予約希望日時\n				 \n			\n			\n				ご予約希望日時をお選びください\n【希望日】タイムスケジュールに記載があるクラスからお選びください\n\n時間帯を選択してください10時台のクラス14時台のクラス18時台のクラス19時台のクラス午前のイベント午後のイベント夜のイベント\n				 \n				※ ご予約状況等によりご希望の日時に添えない場合もございます。その際は事前に調整を行う連絡をさせていただきますので予めご了承ください。\n\n				 \n			\n		\n		\n			\n				こちらのスタジオを何でお知りになりましたか？\n						 （必須）\n						\n				 \n			\n			\n				チラシ看板書籍雑誌紹介Yahoo検索Google検索口コミその他Webサイト\n				 \n			\n		\n		\n			\n				ご関心があること、習得したいこと（複数可）\n				 \n			\n			\n				自然治癒力アップ集中力アップダイエット体質改善ストレス軽減丹田強化呼吸法瞑想法その他（備考欄にご入力ください）\n				 \n			\n		\n		\n			\n				備考欄\n				 \n			\n			\n				\n				 \n			\n		\n	\n	個人情報の取扱い\n		について、同意の上送信します。\n※ ご入力頂いた情報は、株式会社DAHN WORLD JAPANからのご案内をさせて頂く以外の目的では使用致しません。\n		\n	 \n	\n	\n	 \n	※ 送信ボタンを押すとすぐ送信されます。このページで入力内容を確認してください。\n\n自動で完了メールが配信されます。\n	 \nΔ \n\n\n\n株式会社DAHN WORLD JAPAN　ダンワールドジャパン
URL:https://ilchibrainyoga.com/event/nagoya-33/
LOCATION:オンライン
CATEGORIES:名古屋,愛知
ATTACH;FMTTYPE=image/png:https://ilchibrainyoga.com/wp-content/uploads/2026/03/朝ヨガ.png
END:VEVENT
BEGIN:VEVENT
DTSTART;TZID=Asia/Tokyo:20260304T133000
DTEND;TZID=Asia/Tokyo:20260325T141000
DTSTAMP:20260425T123051
CREATED:20260301T050600Z
LAST-MODIFIED:20260303T021033Z
UID:85743-1772631000-1774447800@ilchibrainyoga.com
SUMMARY:【名古屋】水曜日 13:30～【午後を軽やかに過ごす呼吸瞑想ヨガ】
DESCRIPTION:午後になると、\n「なんとなく疲れを感じる」\n「気持ちが落ち着かない」\n「集中力が続かない」\nそんな変化を感じることはありませんか？ \nこのクラスでは、呼吸法・やさしいヨガ・瞑想を通して、\n心と体をゆるめ、自律神経のバランスを整えていきます。 \n週の真ん中である水曜日は、知らないうちに疲れやストレスが溜まりやすいタイミングです。\n呼吸を整え、体をゆるめることで、午後からの過ごしやすさや心の安定につながります。 \n激しい運動は行いません。\n体が硬い方やヨガが初めての方も安心してご参加いただけます。\n年齢・性別問わずご参加可能です。 \n【こんな方におすすめ】\n・午後の疲れをリセットしたい方\n・自律神経のバランスを整えたい方\n・更年期世代の体調ケアをしたい方\n・在宅ワークやパソコン作業が多い方\n・自分をゆるめる時間を持ちたい方 \n【開催日時】\n水曜日 13:30～14:10（40分） \n【開催方法】\nオンライン（Zoom） \nがんばる時間ではなく、自分を整える休息時間を一緒に過ごしてみませんか？\n参加費：1\,000円\nトレーナー：梶原千波\n♦︎お問い合わせ、お申し込みは、こちらからお気軽にどうぞ！\n📞【お問い合わせ】052-453-7120 \nお申し込み、お問い合わせはこのラインからご連絡ください🙆\n\nhttps://lin.ee/IhC4NTNU \n\n\n  \n\n\n\n\n	\n	\n	 \n	\n		\n			\n				ご予約内容\n						（必須）\n						\n				 \n			\n			\n				体験レッスンイベント体験レッスン + オーラ撮影オーラ撮影問合せ\n　※ 入会予約はこちらからお申し込みください\n				 \n			\n		\n		\n			\n				お名前\n						（必須）\n						\n				 \n			\n			\n				\n				 \n			\n		\n		\n			\n				メールアドレス\n						（必須）\n						\n				 \n			\n			\n				\n※ 携帯電話のメールアドレスをご入力の際は、ドメイン指定の設定をされている場合”＠ilchibrainyoga.com”からのメールを受け取ることができるように設定してください。\n				 \n			\n		\n		\n			\n				お電話番号（携帯可）\n						（必須）\n						\n				 \n			\n			\n				イルチブレインヨガ各店舗からの連絡が可能な番号をご入力ください。\n\n				 \n			\n		\n		\n			\n				ご予約希望日時\n				 \n			\n			\n				ご予約希望日時をお選びください\n【希望日】タイムスケジュールに記載があるクラスからお選びください\n\n時間帯を選択してください10時台のクラス14時台のクラス18時台のクラス19時台のクラス午前のイベント午後のイベント夜のイベント\n				 \n				※ ご予約状況等によりご希望の日時に添えない場合もございます。その際は事前に調整を行う連絡をさせていただきますので予めご了承ください。\n\n				 \n			\n		\n		\n			\n				こちらのスタジオを何でお知りになりましたか？\n						 （必須）\n						\n				 \n			\n			\n				チラシ看板書籍雑誌紹介Yahoo検索Google検索口コミその他Webサイト\n				 \n			\n		\n		\n			\n				ご関心があること、習得したいこと（複数可）\n				 \n			\n			\n				自然治癒力アップ集中力アップダイエット体質改善ストレス軽減丹田強化呼吸法瞑想法その他（備考欄にご入力ください）\n				 \n			\n		\n		\n			\n				備考欄\n				 \n			\n			\n				\n				 \n			\n		\n	\n	個人情報の取扱い\n		について、同意の上送信します。\n※ ご入力頂いた情報は、株式会社DAHN WORLD JAPANからのご案内をさせて頂く以外の目的では使用致しません。\n		\n	 \n	\n	\n	 \n	※ 送信ボタンを押すとすぐ送信されます。このページで入力内容を確認してください。\n\n自動で完了メールが配信されます。\n	 \nΔ \n\n\n\n株式会社DAHN WORLD JAPAN　ダンワールドジャパン
URL:https://ilchibrainyoga.com/event/nagoya-32/
LOCATION:オンライン
CATEGORIES:名古屋,愛知
ATTACH;FMTTYPE=image/png:https://ilchibrainyoga.com/wp-content/uploads/2026/03/昼ヨガ.png
END:VEVENT
BEGIN:VEVENT
DTSTART;TZID=Asia/Tokyo:20260305T210000
DTEND;TZID=Asia/Tokyo:20260326T214000
DTSTAMP:20260425T123051
CREATED:20260301T050802Z
LAST-MODIFIED:20260303T021000Z
UID:85746-1772744400-1774561200@ilchibrainyoga.com
SUMMARY:【名古屋】木曜日 21:00～　【眠りにつながるリラックスヨガ】
DESCRIPTION:一日が終わる頃、体の疲れや気持ちの緊張が残っていませんか？ \n「寝つきが良くない」\n「頭が休まらない」\n「肩や体がこわばっている」 \nそんな方に向けた夜のリラックスヨガクラスです。 \nこのクラスでは、ゆったりとしたヨガの動きと呼吸を通して、\n一日の疲れや緊張をやさしくほどき、心と体を休息モードへ導いていきます。 \n夜に体をゆるめ、呼吸を整えることで、\n朝のスッキリ感やストレスケア、自律神経のバランス調整にもつながります。 \n激しい運動はありません。\n体が硬い方やヨガが初めての方も安心してご参加いただけます。\n年齢・性別問わずご参加可能です。 \n【こんな方におすすめ】\n・寝つきを良くしたい方\n・一日の疲れをリセットしたい方\n・ストレスや緊張をゆるめたい方\n・自律神経のバランスを整えたい方\n・おやすみ前にリラックスしたい方 \n【開催日時】\n木曜日 21:00～21:40（40分） \n【開催方法】\nオンライン（Zoom） \n一日の終わりに、自分を整える穏やかな時間を一緒に過ごしてみませんか？\n参加費：1\,000円\nトレーナー：梶原千波\n♦︎お問い合わせ、お申し込みは、こちらからお気軽にどうぞ！\n📞【お問い合わせ】052-453-7120 \nお申し込み、お問い合わせはこのラインからご連絡ください🙆\n\nhttps://lin.ee/IhC4NTNU \n\n\n  \n\n\n\n\n	\n	\n	 \n	\n		\n			\n				ご予約内容\n						（必須）\n						\n				 \n			\n			\n				体験レッスンイベント体験レッスン + オーラ撮影オーラ撮影問合せ\n　※ 入会予約はこちらからお申し込みください\n				 \n			\n		\n		\n			\n				お名前\n						（必須）\n						\n				 \n			\n			\n				\n				 \n			\n		\n		\n			\n				メールアドレス\n						（必須）\n						\n				 \n			\n			\n				\n※ 携帯電話のメールアドレスをご入力の際は、ドメイン指定の設定をされている場合”＠ilchibrainyoga.com”からのメールを受け取ることができるように設定してください。\n				 \n			\n		\n		\n			\n				お電話番号（携帯可）\n						（必須）\n						\n				 \n			\n			\n				イルチブレインヨガ各店舗からの連絡が可能な番号をご入力ください。\n\n				 \n			\n		\n		\n			\n				ご予約希望日時\n				 \n			\n			\n				ご予約希望日時をお選びください\n【希望日】タイムスケジュールに記載があるクラスからお選びください\n\n時間帯を選択してください10時台のクラス14時台のクラス18時台のクラス19時台のクラス午前のイベント午後のイベント夜のイベント\n				 \n				※ ご予約状況等によりご希望の日時に添えない場合もございます。その際は事前に調整を行う連絡をさせていただきますので予めご了承ください。\n\n				 \n			\n		\n		\n			\n				こちらのスタジオを何でお知りになりましたか？\n						 （必須）\n						\n				 \n			\n			\n				チラシ看板書籍雑誌紹介Yahoo検索Google検索口コミその他Webサイト\n				 \n			\n		\n		\n			\n				ご関心があること、習得したいこと（複数可）\n				 \n			\n			\n				自然治癒力アップ集中力アップダイエット体質改善ストレス軽減丹田強化呼吸法瞑想法その他（備考欄にご入力ください）\n				 \n			\n		\n		\n			\n				備考欄\n				 \n			\n			\n				\n				 \n			\n		\n	\n	個人情報の取扱い\n		について、同意の上送信します。\n※ ご入力頂いた情報は、株式会社DAHN WORLD JAPANからのご案内をさせて頂く以外の目的では使用致しません。\n		\n	 \n	\n	\n	 \n	※ 送信ボタンを押すとすぐ送信されます。このページで入力内容を確認してください。\n\n自動で完了メールが配信されます。\n	 \nΔ \n\n\n\n株式会社DAHN WORLD JAPAN　ダンワールドジャパン
URL:https://ilchibrainyoga.com/event/nagoya-31/
LOCATION:オンライン
CATEGORIES:名古屋,愛知
ATTACH;FMTTYPE=image/png:https://ilchibrainyoga.com/wp-content/uploads/2026/03/夜ヨガ.png
END:VEVENT
BEGIN:VEVENT
DTSTART;TZID=Asia/Tokyo:20260310T063000
DTEND;TZID=Asia/Tokyo:20260331T071000
DTSTAMP:20260425T123051
CREATED:20260305T063316Z
LAST-MODIFIED:20260305T063316Z
UID:85952-1773124200-1774941000@ilchibrainyoga.com
SUMMARY:【八事】3月10日(火）17日(火）24日(火）31日(火）【オンライン】瞑想で整えるモーニングヨガ（40分）
DESCRIPTION:朝の時間に、呼吸とゆったりしたヨガ、瞑想で体と心を整えるクラスです。\n✔ 運動が苦手でもOK\n✔ 体が硬くても大丈夫\n✔ 初心者歓迎\n✔ 男女参加可能 \n朝に体を動かすと、その日がとても過ごしやすくなります。 \n開催日：3月10日(火）17日(火）24日(火）31日(火）\n時間：6:30～7:10\n参加費：1000円\n問合せ電話：052-836-6567 \n\nLINEからのお申し込みはこちら⇒https://lin.ee/urzdos2 \n\n\n  \n\n\n\n\n	\n	\n	 \n	\n		\n			\n				ご予約内容\n						（必須）\n						\n				 \n			\n			\n				体験レッスンイベント体験レッスン+オーラ撮影オーラ撮影問合せ\n				 \n				※ 入会予約はこちらからお申し込みください\n				 \n			\n		\n		\n			\n				お名前\n						（必須）\n						\n				 \n			\n			\n				\n				 \n			\n		\n		\n			\n				メールアドレス\n						（必須）\n						\n				 \n			\n			\n				\n※ 携帯電話のメールアドレスをご入力の際は、ドメイン指定の設定をされている場合”＠ilchibrainyoga.com”からのメールを受け取ることができるように設定してください。\n				 \n			\n		\n		\n			\n				お電話番号（携帯可）\n						（必須）\n						\n				 \n			\n			\n				イルチブレインヨガ各店舗からの連絡が可能な番号をご入力ください。\n\n				 \n			\n		\n		\n			\n				ご予約希望日時\n				 \n			\n			\n				ご予約希望日時をお選びください\n【希望日】タイムスケジュールに記載があるクラスからお選びください\n\n時間帯を選択してください10時台のクラス14時台のクラス19時台のクラス午前のイベント午後のイベント夜のイベント\n				 \n				※ ご予約状況等によりご希望の日時に添えない場合もございます。その際は事前に調整を行う連絡をさせていただきますので予めご了承ください。\n\n				 \n			\n		\n		\n			\n				こちらのスタジオを何でお知りになりましたか？\n						 （必須）\n						\n				 \n			\n			\n				チラシ看板書籍雑誌紹介Yahoo検索Google検索口コミその他Webサイト\n				 \n			\n		\n		\n			\n				ご関心があること、習得したいこと（複数可）\n				 \n			\n			\n				自然治癒力アップ集中力アップダイエット体質改善ストレス軽減丹田強化呼吸法瞑想法その他（備考欄にご入力ください）\n				 \n			\n		\n		\n			\n				備考欄\n				 \n			\n			\n				\n				 \n			\n		\n	\n	個人情報の取扱い\n		について、同意の上送信します。\n※ ご入力頂いた情報は、株式会社DAHN WORLD JAPANからのご案内をさせて頂く以外の目的では使用致しません。\n		\n	 \n	\n	\n	 \n	※ 送信ボタンを押すとすぐ送信されます。このページで入力内容を確認してください。\n\n自動で完了メールが配信されます。\n	 \nΔ \n\n\n\n株式会社DAHN WORLD JAPAN　ダンワールドジャパン
URL:https://ilchibrainyoga.com/event/yagoto-36/
LOCATION:オンライン
CATEGORIES:八事,愛知
ATTACH;FMTTYPE=image/png:https://ilchibrainyoga.com/wp-content/uploads/2026/03/朝ヨガ.png
END:VEVENT
BEGIN:VEVENT
DTSTART;TZID=Asia/Tokyo:20260311T133000
DTEND;TZID=Asia/Tokyo:20260325T141000
DTSTAMP:20260425T123051
CREATED:20260305T063553Z
LAST-MODIFIED:20260305T063553Z
UID:85954-1773235800-1774447800@ilchibrainyoga.com
SUMMARY:【八事】 3月11日(火）18日(火）25日(火）【オンライン】午後を軽やかに過ごす 呼吸瞑想ヨガ（40分）
DESCRIPTION:呼吸・やさしいヨガ・瞑想で、\n午後の疲れやストレスをゆるめるクラスです。 \n✔ 初心者歓迎\n✔ 体が硬くてもOK\n✔ 激しい運動なし\n✔ 男女参加可能 \n午後に体と心を整えると、その後の時間がとても楽になります。 \n開催日：3月11日(火）18日(火）25日(火）\n時間：13:30～14:10\n参加費：1000円\n問合せ電話：052-836-6567 \n\nLINEからのお申し込みはこちら⇒https://lin.ee/urzdos2 \n\n\n  \n\n\n\n\n	\n	\n	 \n	\n		\n			\n				ご予約内容\n						（必須）\n						\n				 \n			\n			\n				体験レッスンイベント体験レッスン+オーラ撮影オーラ撮影問合せ\n				 \n				※ 入会予約はこちらからお申し込みください\n				 \n			\n		\n		\n			\n				お名前\n						（必須）\n						\n				 \n			\n			\n				\n				 \n			\n		\n		\n			\n				メールアドレス\n						（必須）\n						\n				 \n			\n			\n				\n※ 携帯電話のメールアドレスをご入力の際は、ドメイン指定の設定をされている場合”＠ilchibrainyoga.com”からのメールを受け取ることができるように設定してください。\n				 \n			\n		\n		\n			\n				お電話番号（携帯可）\n						（必須）\n						\n				 \n			\n			\n				イルチブレインヨガ各店舗からの連絡が可能な番号をご入力ください。\n\n				 \n			\n		\n		\n			\n				ご予約希望日時\n				 \n			\n			\n				ご予約希望日時をお選びください\n【希望日】タイムスケジュールに記載があるクラスからお選びください\n\n時間帯を選択してください10時台のクラス14時台のクラス19時台のクラス午前のイベント午後のイベント夜のイベント\n				 \n				※ ご予約状況等によりご希望の日時に添えない場合もございます。その際は事前に調整を行う連絡をさせていただきますので予めご了承ください。\n\n				 \n			\n		\n		\n			\n				こちらのスタジオを何でお知りになりましたか？\n						 （必須）\n						\n				 \n			\n			\n				チラシ看板書籍雑誌紹介Yahoo検索Google検索口コミその他Webサイト\n				 \n			\n		\n		\n			\n				ご関心があること、習得したいこと（複数可）\n				 \n			\n			\n				自然治癒力アップ集中力アップダイエット体質改善ストレス軽減丹田強化呼吸法瞑想法その他（備考欄にご入力ください）\n				 \n			\n		\n		\n			\n				備考欄\n				 \n			\n			\n				\n				 \n			\n		\n	\n	個人情報の取扱い\n		について、同意の上送信します。\n※ ご入力頂いた情報は、株式会社DAHN WORLD JAPANからのご案内をさせて頂く以外の目的では使用致しません。\n		\n	 \n	\n	\n	 \n	※ 送信ボタンを押すとすぐ送信されます。このページで入力内容を確認してください。\n\n自動で完了メールが配信されます。\n	 \nΔ \n\n\n\n株式会社DAHN WORLD JAPAN　ダンワールドジャパン
URL:https://ilchibrainyoga.com/event/yagoto-37/
LOCATION:オンライン
CATEGORIES:八事,愛知
ATTACH;FMTTYPE=image/jpeg:https://ilchibrainyoga.com/wp-content/uploads/2025/12/オンライン-ストレッチ.jpg
END:VEVENT
BEGIN:VEVENT
DTSTART;TZID=Asia/Tokyo:20260311T200000
DTEND;TZID=Asia/Tokyo:20260326T203000
DTSTAMP:20260425T123051
CREATED:20260220T055928Z
LAST-MODIFIED:20260224T074937Z
UID:85359-1773259200-1774557000@ilchibrainyoga.com
SUMMARY:【甲子園口】3月11日（木）26日（金）オンライン瞑想室　「目をつむってみよう」～瞑想の準備と実践～
DESCRIPTION:瞑想初心者に腸運動など背筋を立てる土台となる腹部のトレーニング\nと呼吸瞑想、座ってできる内容 \n開催日：3月11日（木）26日（金）\n時間：20：00～20：30\n会場名：zoomオンライン会議室\n会場住所：接続先は後日連絡\n参加費：無料\nトレーナー：こぐれゆうこ\n持ち物：楽な服装でご参加ください\n問合せ電話：090-7353-6082 \n\nLINEからのお申し込みはこちら⇒https://lin.ee/mHNvUpL \n\n\n  \n\n\n\n\n	\n	\n	 \n	\n		\n			\n				ご予約内容\n						（必須）\n						\n				 \n			\n			\n				体験レッスンイベント体験レッスン+オーラ撮影オーラ撮影問合せ\n※ 入会予約はこちらからお申し込みください\n				 \n			\n		\n		\n			\n				お名前\n						（必須）\n						\n				 \n			\n			\n				\n				 \n			\n		\n		\n			\n				メールアドレス\n						（必須）\n						\n				 \n			\n			\n				\n※ 携帯電話のメールアドレスをご入力の際は、ドメイン指定の設定をされている場合”＠ilchibrainyoga.com”からのメールを受け取ることができるように設定してください。\n				 \n			\n		\n		\n			\n				お電話番号（携帯可）\n						（必須）\n						\n				 \n			\n			\n				イルチブレインヨガ各店舗からの連絡が可能な番号をご入力ください。\n\n				 \n			\n		\n		\n			\n				ご予約希望日時\n				 \n			\n			\n				ご予約希望日時をお選びください\n【希望日】タイムスケジュールに記載があるクラスからお選びください\n\n時間帯を選択してください10時台のクラス14時台のクラス19時台のクラス午前のイベント午後のイベント夜のイベント\n				 \n				※ ご予約状況等によりご希望の日時に添えない場合もございます。その際は事前に調整を行う連絡をさせていただきますので予めご了承ください。\n\n				 \n			\n		\n		\n			\n				こちらのスタジオを何でお知りになりましたか？\n						 （必須）\n						\n				 \n			\n			\n				チラシ看板書籍雑誌紹介Yahoo検索Google検索口コミその他Webサイト\n				 \n			\n		\n		\n			\n				ご関心があること、習得したいこと（複数可）\n				 \n			\n			\n				自然治癒力アップ集中力アップダイエット体質改善ストレス軽減丹田強化呼吸法瞑想法その他（備考欄にご入力ください）\n				 \n			\n		\n		\n			\n				備考欄\n				 \n			\n			\n				\n				 \n			\n		\n	\n	個人情報の取扱い\n		について、同意の上送信します。\n※ ご入力頂いた情報は、株式会社DAHN WORLD JAPANからのご案内をさせて頂く以外の目的では使用致しません。\n		\n	 \n	\n	\n	 \n	※ 送信ボタンを押すとすぐ送信されます。このページで入力内容を確認してください。\n\n自動で完了メールが配信されます。\n	 \nΔ \n\n\n\n株式会社DAHN WORLD JAPAN
URL:https://ilchibrainyoga.com/event/koushienguchi-18/
LOCATION:オンラインzoom
CATEGORIES:兵庫,甲子園口,長寿スクール説明会・ワークショップ
ATTACH;FMTTYPE=image/jpeg:https://ilchibrainyoga.com/wp-content/uploads/2025/12/オンライン-瞑想.jpg
END:VEVENT
BEGIN:VEVENT
DTSTART;TZID=Asia/Tokyo:20260312T210000
DTEND;TZID=Asia/Tokyo:20260326T214000
DTSTAMP:20260425T123051
CREATED:20260305T063836Z
LAST-MODIFIED:20260305T063836Z
UID:85956-1773349200-1774561200@ilchibrainyoga.com
SUMMARY:【八事】3月12日(木）19日(木）26日(木）【オンライン】 眠りにつながるリラックスヨガ（40分）
DESCRIPTION:一日の疲れをゆったりしたヨガと呼吸で整えるリラックスクラスです。 \n✔ 初心者歓迎\n✔ 体が硬くてもOK\n✔ 激しい運動なし\n✔ 男女参加可能 \n夜に体をゆるめると、眠りやすくなり、翌朝の目覚めも変わります。 \n開催日：3月12日(木）19日(木）26日(木）\n時間：21:00～21:40\n参加費：1000円\n問合せ電話：052-836-6567 \n\nLINEからのお申し込みはこちら⇒https://lin.ee/urzdos2 \n\n\n  \n\n\n\n\n	\n	\n	 \n	\n		\n			\n				ご予約内容\n						（必須）\n						\n				 \n			\n			\n				体験レッスンイベント体験レッスン+オーラ撮影オーラ撮影問合せ\n				 \n				※ 入会予約はこちらからお申し込みください\n				 \n			\n		\n		\n			\n				お名前\n						（必須）\n						\n				 \n			\n			\n				\n				 \n			\n		\n		\n			\n				メールアドレス\n						（必須）\n						\n				 \n			\n			\n				\n※ 携帯電話のメールアドレスをご入力の際は、ドメイン指定の設定をされている場合”＠ilchibrainyoga.com”からのメールを受け取ることができるように設定してください。\n				 \n			\n		\n		\n			\n				お電話番号（携帯可）\n						（必須）\n						\n				 \n			\n			\n				イルチブレインヨガ各店舗からの連絡が可能な番号をご入力ください。\n\n				 \n			\n		\n		\n			\n				ご予約希望日時\n				 \n			\n			\n				ご予約希望日時をお選びください\n【希望日】タイムスケジュールに記載があるクラスからお選びください\n\n時間帯を選択してください10時台のクラス14時台のクラス19時台のクラス午前のイベント午後のイベント夜のイベント\n				 \n				※ ご予約状況等によりご希望の日時に添えない場合もございます。その際は事前に調整を行う連絡をさせていただきますので予めご了承ください。\n\n				 \n			\n		\n		\n			\n				こちらのスタジオを何でお知りになりましたか？\n						 （必須）\n						\n				 \n			\n			\n				チラシ看板書籍雑誌紹介Yahoo検索Google検索口コミその他Webサイト\n				 \n			\n		\n		\n			\n				ご関心があること、習得したいこと（複数可）\n				 \n			\n			\n				自然治癒力アップ集中力アップダイエット体質改善ストレス軽減丹田強化呼吸法瞑想法その他（備考欄にご入力ください）\n				 \n			\n		\n		\n			\n				備考欄\n				 \n			\n			\n				\n				 \n			\n		\n	\n	個人情報の取扱い\n		について、同意の上送信します。\n※ ご入力頂いた情報は、株式会社DAHN WORLD JAPANからのご案内をさせて頂く以外の目的では使用致しません。\n		\n	 \n	\n	\n	 \n	※ 送信ボタンを押すとすぐ送信されます。このページで入力内容を確認してください。\n\n自動で完了メールが配信されます。\n	 \nΔ \n\n\n\n株式会社DAHN WORLD JAPAN　ダンワールドジャパン
URL:https://ilchibrainyoga.com/event/yagoto-38/
LOCATION:オンライン
CATEGORIES:八事,愛知
ATTACH;FMTTYPE=image/jpeg:https://ilchibrainyoga.com/wp-content/uploads/2025/12/オンライン-瞑想.jpg
END:VEVENT
END:VCALENDAR